BEGIN:VCALENDAR
VERSION:2.0
PRODID:-//Moylan Iceplex - ECPv6.15.20//NONSGML v1.0//EN
CALSCALE:GREGORIAN
METHOD:PUBLISH
X-ORIGINAL-URL:https://www.moylaniceplex.com
X-WR-CALDESC:Events for Moylan Iceplex
REFRESH-INTERVAL;VALUE=DURATION:PT1H
X-Robots-Tag:noindex
X-PUBLISHED-TTL:PT1H
BEGIN:VTIMEZONE
TZID:America/Chicago
BEGIN:DAYLIGHT
TZOFFSETFROM:-0600
TZOFFSETTO:-0500
TZNAME:CDT
DTSTART:20250309T080000
END:DAYLIGHT
BEGIN:STANDARD
TZOFFSETFROM:-0500
TZOFFSETTO:-0600
TZNAME:CST
DTSTART:20251102T070000
END:STANDARD
BEGIN:DAYLIGHT
TZOFFSETFROM:-0600
TZOFFSETTO:-0500
TZNAME:CDT
DTSTART:20260308T080000
END:DAYLIGHT
BEGIN:STANDARD
TZOFFSETFROM:-0500
TZOFFSETTO:-0600
TZNAME:CST
DTSTART:20261101T070000
END:STANDARD
BEGIN:DAYLIGHT
TZOFFSETFROM:-0600
TZOFFSETTO:-0500
TZNAME:CDT
DTSTART:20270314T080000
END:DAYLIGHT
BEGIN:STANDARD
TZOFFSETFROM:-0500
TZOFFSETTO:-0600
TZNAME:CST
DTSTART:20271107T070000
END:STANDARD
END:VTIMEZONE
BEGIN:VEVENT
DTSTART;TZID=America/Chicago:20260324T060000
DTEND;TZID=America/Chicago:20260324T100000
DTSTAMP:20260420T004259
CREATED:20251226T213942Z
LAST-MODIFIED:20260220T161151Z
UID:94511-1774332000-1774346400@www.moylaniceplex.com
SUMMARY:Club Ice
DESCRIPTION:
URL:https://www.moylaniceplex.com/event/club-ice-528/
CATEGORIES:Club Ice
END:VEVENT
BEGIN:VEVENT
DTSTART;TZID=America/Chicago:20260324T150000
DTEND;TZID=America/Chicago:20260324T180000
DTSTAMP:20260420T004259
CREATED:20251226T213808Z
LAST-MODIFIED:20260220T161151Z
UID:94481-1774364400-1774375200@www.moylaniceplex.com
SUMMARY:Club Ice
DESCRIPTION:
URL:https://www.moylaniceplex.com/event/club-ice-498/
CATEGORIES:Club Ice
END:VEVENT
END:VCALENDAR