BEGIN:VCALENDAR
VERSION:2.0
PRODID:-//Moylan Iceplex - ECPv6.15.20//NONSGML v1.0//EN
CALSCALE:GREGORIAN
METHOD:PUBLISH
X-ORIGINAL-URL:https://www.moylaniceplex.com
X-WR-CALDESC:Events for Moylan Iceplex
REFRESH-INTERVAL;VALUE=DURATION:PT1H
X-Robots-Tag:noindex
X-PUBLISHED-TTL:PT1H
BEGIN:VTIMEZONE
TZID:America/Chicago
BEGIN:DAYLIGHT
TZOFFSETFROM:-0600
TZOFFSETTO:-0500
TZNAME:CDT
DTSTART:20250309T080000
END:DAYLIGHT
BEGIN:STANDARD
TZOFFSETFROM:-0500
TZOFFSETTO:-0600
TZNAME:CST
DTSTART:20251102T070000
END:STANDARD
BEGIN:DAYLIGHT
TZOFFSETFROM:-0600
TZOFFSETTO:-0500
TZNAME:CDT
DTSTART:20260308T080000
END:DAYLIGHT
BEGIN:STANDARD
TZOFFSETFROM:-0500
TZOFFSETTO:-0600
TZNAME:CST
DTSTART:20261101T070000
END:STANDARD
BEGIN:DAYLIGHT
TZOFFSETFROM:-0600
TZOFFSETTO:-0500
TZNAME:CDT
DTSTART:20270314T080000
END:DAYLIGHT
BEGIN:STANDARD
TZOFFSETFROM:-0500
TZOFFSETTO:-0600
TZNAME:CST
DTSTART:20271107T070000
END:STANDARD
END:VTIMEZONE
BEGIN:VEVENT
DTSTART;TZID=America/Chicago:20260505T150000
DTEND;TZID=America/Chicago:20260505T180000
DTSTAMP:20260424T191845
CREATED:20260218T162006Z
LAST-MODIFIED:20260324T123738Z
UID:94702-1777993200-1778004000@www.moylaniceplex.com
SUMMARY:Club Ice
DESCRIPTION:
URL:https://www.moylaniceplex.com/event/club-ice-561/
CATEGORIES:Club Ice
END:VEVENT
BEGIN:VEVENT
DTSTART;TZID=America/Chicago:20260506T060000
DTEND;TZID=America/Chicago:20260506T100000
DTSTAMP:20260424T191845
CREATED:20260218T165220Z
LAST-MODIFIED:20260324T124023Z
UID:94751-1778047200-1778061600@www.moylaniceplex.com
SUMMARY:Club Ice
DESCRIPTION:
URL:https://www.moylaniceplex.com/event/club-ice-610/
CATEGORIES:Club Ice
END:VEVENT
BEGIN:VEVENT
DTSTART;TZID=America/Chicago:20260506T150000
DTEND;TZID=America/Chicago:20260506T180000
DTSTAMP:20260424T191845
CREATED:20260218T162206Z
LAST-MODIFIED:20260324T123752Z
UID:94703-1778079600-1778090400@www.moylaniceplex.com
SUMMARY:Club Ice
DESCRIPTION:
URL:https://www.moylaniceplex.com/event/club-ice-562/
CATEGORIES:Club Ice
END:VEVENT
BEGIN:VEVENT
DTSTART;TZID=America/Chicago:20260507T060000
DTEND;TZID=America/Chicago:20260507T100000
DTSTAMP:20260424T191845
CREATED:20260218T165221Z
LAST-MODIFIED:20260324T124024Z
UID:94752-1778133600-1778148000@www.moylaniceplex.com
SUMMARY:Club Ice
DESCRIPTION:
URL:https://www.moylaniceplex.com/event/club-ice-611/
CATEGORIES:Club Ice
END:VEVENT
BEGIN:VEVENT
DTSTART;TZID=America/Chicago:20260507T150000
DTEND;TZID=America/Chicago:20260507T170000
DTSTAMP:20260424T191845
CREATED:20260218T163008Z
LAST-MODIFIED:20260324T123841Z
UID:94722-1778166000-1778173200@www.moylaniceplex.com
SUMMARY:Club Ice
DESCRIPTION:
URL:https://www.moylaniceplex.com/event/club-ice-581/
CATEGORIES:Club Ice
END:VEVENT
BEGIN:VEVENT
DTSTART;TZID=America/Chicago:20260508T060000
DTEND;TZID=America/Chicago:20260508T100000
DTSTAMP:20260424T191845
CREATED:20260218T165221Z
LAST-MODIFIED:20260324T124223Z
UID:94753-1778220000-1778234400@www.moylaniceplex.com
SUMMARY:Club Ice
DESCRIPTION:
URL:https://www.moylaniceplex.com/event/club-ice-612/
CATEGORIES:Club Ice
END:VEVENT
BEGIN:VEVENT
DTSTART;TZID=America/Chicago:20260508T150000
DTEND;TZID=America/Chicago:20260508T180000
DTSTAMP:20260424T191845
CREATED:20260218T162206Z
LAST-MODIFIED:20260324T123752Z
UID:94704-1778252400-1778263200@www.moylaniceplex.com
SUMMARY:Club Ice
DESCRIPTION:
URL:https://www.moylaniceplex.com/event/club-ice-563/
CATEGORIES:Club Ice
END:VEVENT
BEGIN:VEVENT
DTSTART;TZID=America/Chicago:20260509T060000
DTEND;TZID=America/Chicago:20260509T100000
DTSTAMP:20260424T191845
CREATED:20260218T162810Z
LAST-MODIFIED:20260324T123839Z
UID:94718-1778306400-1778320800@www.moylaniceplex.com
SUMMARY:Club Ice
DESCRIPTION:
URL:https://www.moylaniceplex.com/event/club-ice-577/
CATEGORIES:Club Ice
END:VEVENT
BEGIN:VEVENT
DTSTART;TZID=America/Chicago:20260511T060000
DTEND;TZID=America/Chicago:20260511T100000
DTSTAMP:20260424T191845
CREATED:20260218T165221Z
LAST-MODIFIED:20260324T124224Z
UID:94754-1778479200-1778493600@www.moylaniceplex.com
SUMMARY:Club Ice
DESCRIPTION:
URL:https://www.moylaniceplex.com/event/club-ice-613/
CATEGORIES:Club Ice
END:VEVENT
BEGIN:VEVENT
DTSTART;TZID=America/Chicago:20260511T150000
DTEND;TZID=America/Chicago:20260511T170000
DTSTAMP:20260424T191845
CREATED:20260324T130125Z
LAST-MODIFIED:20260324T130125Z
UID:95216-1778511600-1778518800@www.moylaniceplex.com
SUMMARY:Club Ice
DESCRIPTION:
URL:https://www.moylaniceplex.com/event/club-ice-639/
CATEGORIES:Club Ice
END:VEVENT
BEGIN:VEVENT
DTSTART;TZID=America/Chicago:20260512T060000
DTEND;TZID=America/Chicago:20260512T100000
DTSTAMP:20260424T191845
CREATED:20260218T165222Z
LAST-MODIFIED:20260324T124224Z
UID:94755-1778565600-1778580000@www.moylaniceplex.com
SUMMARY:Club Ice
DESCRIPTION:
URL:https://www.moylaniceplex.com/event/club-ice-614/
CATEGORIES:Club Ice
END:VEVENT
BEGIN:VEVENT
DTSTART;TZID=America/Chicago:20260512T150000
DTEND;TZID=America/Chicago:20260512T180000
DTSTAMP:20260424T191845
CREATED:20260218T162207Z
LAST-MODIFIED:20260324T123753Z
UID:94705-1778598000-1778608800@www.moylaniceplex.com
SUMMARY:Club Ice
DESCRIPTION:
URL:https://www.moylaniceplex.com/event/club-ice-564/
CATEGORIES:Club Ice
END:VEVENT
BEGIN:VEVENT
DTSTART;TZID=America/Chicago:20260513T060000
DTEND;TZID=America/Chicago:20260513T100000
DTSTAMP:20260424T191845
CREATED:20260218T165421Z
LAST-MODIFIED:20260324T124224Z
UID:94756-1778652000-1778666400@www.moylaniceplex.com
SUMMARY:Club Ice
DESCRIPTION:
URL:https://www.moylaniceplex.com/event/club-ice-615/
CATEGORIES:Club Ice
END:VEVENT
BEGIN:VEVENT
DTSTART;TZID=America/Chicago:20260513T150000
DTEND;TZID=America/Chicago:20260513T180000
DTSTAMP:20260424T191845
CREATED:20260218T162207Z
LAST-MODIFIED:20260324T123754Z
UID:94706-1778684400-1778695200@www.moylaniceplex.com
SUMMARY:Club Ice
DESCRIPTION:
URL:https://www.moylaniceplex.com/event/club-ice-565/
CATEGORIES:Club Ice
END:VEVENT
BEGIN:VEVENT
DTSTART;TZID=America/Chicago:20260514T060000
DTEND;TZID=America/Chicago:20260514T100000
DTSTAMP:20260424T191845
CREATED:20260218T165422Z
LAST-MODIFIED:20260324T124225Z
UID:94757-1778738400-1778752800@www.moylaniceplex.com
SUMMARY:Club Ice
DESCRIPTION:
URL:https://www.moylaniceplex.com/event/club-ice-616/
CATEGORIES:Club Ice
END:VEVENT
BEGIN:VEVENT
DTSTART;TZID=America/Chicago:20260514T150000
DTEND;TZID=America/Chicago:20260514T170000
DTSTAMP:20260424T191845
CREATED:20260218T163008Z
LAST-MODIFIED:20260324T123851Z
UID:94723-1778770800-1778778000@www.moylaniceplex.com
SUMMARY:Club Ice
DESCRIPTION:
URL:https://www.moylaniceplex.com/event/club-ice-582/
CATEGORIES:Club Ice
END:VEVENT
BEGIN:VEVENT
DTSTART;TZID=America/Chicago:20260515T060000
DTEND;TZID=America/Chicago:20260515T100000
DTSTAMP:20260424T191845
CREATED:20260218T165422Z
LAST-MODIFIED:20260324T124424Z
UID:94758-1778824800-1778839200@www.moylaniceplex.com
SUMMARY:Club Ice
DESCRIPTION:
URL:https://www.moylaniceplex.com/event/club-ice-617/
CATEGORIES:Club Ice
END:VEVENT
BEGIN:VEVENT
DTSTART;TZID=America/Chicago:20260515T150000
DTEND;TZID=America/Chicago:20260515T180000
DTSTAMP:20260424T191845
CREATED:20260218T162207Z
LAST-MODIFIED:20260324T123754Z
UID:94707-1778857200-1778868000@www.moylaniceplex.com
SUMMARY:Club Ice
DESCRIPTION:
URL:https://www.moylaniceplex.com/event/club-ice-566/
CATEGORIES:Club Ice
END:VEVENT
BEGIN:VEVENT
DTSTART;TZID=America/Chicago:20260516T060000
DTEND;TZID=America/Chicago:20260516T100000
DTSTAMP:20260424T191845
CREATED:20260218T163007Z
LAST-MODIFIED:20260324T123839Z
UID:94719-1778911200-1778925600@www.moylaniceplex.com
SUMMARY:Club Ice
DESCRIPTION:
URL:https://www.moylaniceplex.com/event/club-ice-578/
CATEGORIES:Club Ice
END:VEVENT
BEGIN:VEVENT
DTSTART;TZID=America/Chicago:20260518T060000
DTEND;TZID=America/Chicago:20260518T100000
DTSTAMP:20260424T191845
CREATED:20260218T165422Z
LAST-MODIFIED:20260324T124425Z
UID:94759-1779084000-1779098400@www.moylaniceplex.com
SUMMARY:Club Ice
DESCRIPTION:
URL:https://www.moylaniceplex.com/event/club-ice-618/
CATEGORIES:Club Ice
END:VEVENT
BEGIN:VEVENT
DTSTART;TZID=America/Chicago:20260518T150000
DTEND;TZID=America/Chicago:20260518T170000
DTSTAMP:20260424T191845
CREATED:20260324T130125Z
LAST-MODIFIED:20260324T130125Z
UID:95215-1779116400-1779123600@www.moylaniceplex.com
SUMMARY:Club Ice
DESCRIPTION:
URL:https://www.moylaniceplex.com/event/club-ice-638/
CATEGORIES:Club Ice
END:VEVENT
BEGIN:VEVENT
DTSTART;TZID=America/Chicago:20260519T060000
DTEND;TZID=America/Chicago:20260519T100000
DTSTAMP:20260424T191845
CREATED:20260218T165422Z
LAST-MODIFIED:20260324T124425Z
UID:94760-1779170400-1779184800@www.moylaniceplex.com
SUMMARY:Club Ice
DESCRIPTION:
URL:https://www.moylaniceplex.com/event/club-ice-619/
CATEGORIES:Club Ice
END:VEVENT
BEGIN:VEVENT
DTSTART;TZID=America/Chicago:20260519T150000
DTEND;TZID=America/Chicago:20260519T180000
DTSTAMP:20260424T191845
CREATED:20260218T162404Z
LAST-MODIFIED:20260324T123806Z
UID:94708-1779202800-1779213600@www.moylaniceplex.com
SUMMARY:Club Ice
DESCRIPTION:
URL:https://www.moylaniceplex.com/event/club-ice-567/
CATEGORIES:Club Ice
END:VEVENT
BEGIN:VEVENT
DTSTART;TZID=America/Chicago:20260520T060000
DTEND;TZID=America/Chicago:20260520T100000
DTSTAMP:20260424T191845
CREATED:20260218T165619Z
LAST-MODIFIED:20260324T124426Z
UID:94761-1779256800-1779271200@www.moylaniceplex.com
SUMMARY:Club Ice
DESCRIPTION:
URL:https://www.moylaniceplex.com/event/club-ice-620/
CATEGORIES:Club Ice
END:VEVENT
BEGIN:VEVENT
DTSTART;TZID=America/Chicago:20260520T150000
DTEND;TZID=America/Chicago:20260520T180000
DTSTAMP:20260424T191845
CREATED:20260218T162405Z
LAST-MODIFIED:20260324T123807Z
UID:94709-1779289200-1779300000@www.moylaniceplex.com
SUMMARY:Club Ice
DESCRIPTION:
URL:https://www.moylaniceplex.com/event/club-ice-568/
CATEGORIES:Club Ice
END:VEVENT
BEGIN:VEVENT
DTSTART;TZID=America/Chicago:20260521T060000
DTEND;TZID=America/Chicago:20260521T100000
DTSTAMP:20260424T191845
CREATED:20260218T165620Z
LAST-MODIFIED:20260324T124426Z
UID:94762-1779343200-1779357600@www.moylaniceplex.com
SUMMARY:Club Ice
DESCRIPTION:
URL:https://www.moylaniceplex.com/event/club-ice-621/
CATEGORIES:Club Ice
END:VEVENT
BEGIN:VEVENT
DTSTART;TZID=America/Chicago:20260521T150000
DTEND;TZID=America/Chicago:20260521T170000
DTSTAMP:20260424T191845
CREATED:20260218T163208Z
LAST-MODIFIED:20260324T123852Z
UID:94724-1779375600-1779382800@www.moylaniceplex.com
SUMMARY:Club Ice
DESCRIPTION:
URL:https://www.moylaniceplex.com/event/club-ice-583/
CATEGORIES:Club Ice
END:VEVENT
BEGIN:VEVENT
DTSTART;TZID=America/Chicago:20260522T060000
DTEND;TZID=America/Chicago:20260522T100000
DTSTAMP:20260424T191845
CREATED:20260218T165621Z
LAST-MODIFIED:20260324T124625Z
UID:94763-1779429600-1779444000@www.moylaniceplex.com
SUMMARY:Club Ice
DESCRIPTION:
URL:https://www.moylaniceplex.com/event/club-ice-622/
CATEGORIES:Club Ice
END:VEVENT
BEGIN:VEVENT
DTSTART;TZID=America/Chicago:20260522T150000
DTEND;TZID=America/Chicago:20260522T180000
DTSTAMP:20260424T191845
CREATED:20260218T162405Z
LAST-MODIFIED:20260324T123807Z
UID:94710-1779462000-1779472800@www.moylaniceplex.com
SUMMARY:Club Ice
DESCRIPTION:
URL:https://www.moylaniceplex.com/event/club-ice-569/
CATEGORIES:Club Ice
END:VEVENT
BEGIN:VEVENT
DTSTART;TZID=America/Chicago:20260523T060000
DTEND;TZID=America/Chicago:20260523T100000
DTSTAMP:20260424T191845
CREATED:20260218T163007Z
LAST-MODIFIED:20260324T123840Z
UID:94720-1779516000-1779530400@www.moylaniceplex.com
SUMMARY:Club Ice
DESCRIPTION:
URL:https://www.moylaniceplex.com/event/club-ice-579/
CATEGORIES:Club Ice
END:VEVENT
END:VCALENDAR